BEGIN:VCALENDAR
VERSION:2.0
PRODID:-//Space Renaissance - ECPv6.15.20//NONSGML v1.0//EN
CALSCALE:GREGORIAN
METHOD:PUBLISH
X-ORIGINAL-URL:https://spacerenaissance.space
X-WR-CALDESC:Events for Space Renaissance
REFRESH-INTERVAL;VALUE=DURATION:PT1H
X-Robots-Tag:noindex
X-PUBLISHED-TTL:PT1H
BEGIN:VTIMEZONE
TZID:UTC
BEGIN:STANDARD
TZOFFSETFROM:+0000
TZOFFSETTO:+0000
TZNAME:UTC
DTSTART:20210101T000000
END:STANDARD
END:VTIMEZONE
BEGIN:VEVENT
DTSTART;TZID=UTC:20220829T120000
DTEND;TZID=UTC:20220829T140000
DTSTAMP:20260423T200839
CREATED:20220816T161333Z
LAST-MODIFIED:20220820T101638Z
UID:5897-1661774400-1661781600@spacerenaissance.space
SUMMARY:Artemis 1 launch watch and comment live - 12:00 UTC
DESCRIPTION:Space Renaissance International and EuroMoonMars will follow live the launch of Artemis 1 mission.  \nProf. Bernard Foing (SRI President and EMM Chair)\, will comment live from the launch site. \nClick ‘going’ to the Facebook event: https://www.facebook.com/events/359405146401561 \nFollow the livestream on the Space Renaissance YouTube channel: https://youtu.be/YVBiJbR3VaU
URL:https://spacerenaissance.space/event/artemis-1-launch-watch-and-comment-live-1215-utc/
LOCATION:Zoom
CATEGORIES:Space Renaissance International
ATTACH;FMTTYPE=image/jpeg:https://spacerenaissance.space/wp-content/uploads/2022/08/ARTEMIS01-3.jpg
ORGANIZER;CN="Space Renaissance International":MAILTO:info@spacerenaissance.org
END:VEVENT
BEGIN:VEVENT
DTSTART;TZID=UTC:20220828T120000
DTEND;TZID=UTC:20220828T133000
DTSTAMP:20260423T200839
CREATED:20220818T172220Z
LAST-MODIFIED:20220820T101718Z
UID:5902-1661688000-1661693400@spacerenaissance.space
SUMMARY:Artemis 1 pre-launch comment - 12:00 UTC
DESCRIPTION:Space Renaissance International and EuroMoonMars will comment and provide basic information on the Artemis 1 mission.\nPanel:\n– Serena Crotti – Moderator\n– Bernard Foing – Artemis program overview\n– Cole Armagost – Artemis 1 Payloads and goals\n– Kete Rok – Space Launch System (SLS)\, launch and mission profile\n– Adriano V. Autino – What does Artemis mean for Civilian Space Development?\n– Gautam Kiran – What does Artemis mean for young explorers?\nOther guests will take part to the discussion.\n\nClick ‘going’ to the Facebook event: https://www.facebook.com/events/463130928780969\nFollow the livestream on the Space Renaissance Youtube channel: https://youtu.be/UOtDB7l8kKY
URL:https://spacerenaissance.space/event/artemis-1-pre-launch-comment-1200-utc/
LOCATION:Zoom
CATEGORIES:Space Renaissance International
ATTACH;FMTTYPE=image/jpeg:https://spacerenaissance.space/wp-content/uploads/2022/08/ARTEMIS01-3.jpg
ORGANIZER;CN="Space Renaissance International":MAILTO:info@spacerenaissance.org
END:VEVENT
END:VCALENDAR