BEGIN:VCALENDAR
VERSION:2.0
PRODID:-//Space Renaissance - ECPv6.15.20//NONSGML v1.0//EN
CALSCALE:GREGORIAN
METHOD:PUBLISH
X-WR-CALNAME:Space Renaissance
X-ORIGINAL-URL:https://spacerenaissance.space
X-WR-CALDESC:Events for Space Renaissance
REFRESH-INTERVAL;VALUE=DURATION:PT1H
X-Robots-Tag:noindex
X-PUBLISHED-TTL:PT1H
BEGIN:VTIMEZONE
TZID:Europe/Zurich
BEGIN:DAYLIGHT
TZOFFSETFROM:+0100
TZOFFSETTO:+0200
TZNAME:CEST
DTSTART:20250330T010000
END:DAYLIGHT
BEGIN:STANDARD
TZOFFSETFROM:+0200
TZOFFSETTO:+0100
TZNAME:CET
DTSTART:20251026T010000
END:STANDARD
BEGIN:DAYLIGHT
TZOFFSETFROM:+0100
TZOFFSETTO:+0200
TZNAME:CEST
DTSTART:20260329T010000
END:DAYLIGHT
BEGIN:STANDARD
TZOFFSETFROM:+0200
TZOFFSETTO:+0100
TZNAME:CET
DTSTART:20261025T010000
END:STANDARD
BEGIN:DAYLIGHT
TZOFFSETFROM:+0100
TZOFFSETTO:+0200
TZNAME:CEST
DTSTART:20270328T010000
END:DAYLIGHT
BEGIN:STANDARD
TZOFFSETFROM:+0200
TZOFFSETTO:+0100
TZNAME:CET
DTSTART:20271031T010000
END:STANDARD
END:VTIMEZONE
BEGIN:VEVENT
DTSTART;TZID=Europe/Zurich:20260430T103000
DTEND;TZID=Europe/Zurich:20260430T123000
DTSTAMP:20260423T124402
CREATED:20260423T092936Z
LAST-MODIFIED:20260423T092936Z
UID:8557-1777545000-1777552200@spacerenaissance.space
SUMMARY:EDUCAZIONE ALLO SPAZIO 2026 - 4° SESSIONE: FILOSOFIA E STORIA
DESCRIPTION:Space Renaissance Italia e Space Renaissance International vi invitano alla 4° sessione del programma di Educazione allo Spazio.  \n\n10:30 — Educazione allo Spazio – Sessione 4: “FILOSOFIA E SCIENZE”  \nI lettori:  \n\n Marie-Luise Heuser\, prof. di filosofia dello spazio\, Germania \nFrank White\, autore dell’Overview Effect (Stati Uniti) \nGhanim Alotaibi\, ricercatore e divulgatore di filosofia spazaiale (Kuwait) \nAdriano V. Autino\, autore di “La Terra non è malata: è incinta!” e “Un mondo più grande è possibile” \n\nI temi della sessione: \n\nIl futuro degli esseri umani nello spazio\, il nostro destino cosmico (White) \nIl romanticismo spaziale (Heuser) \nIl rinascimento spaziale (Alotaibi) \nUn’utopia realizzabile (Autino)\n\nConduce: Alessandra Vitale \nSegui il Livestream sul canale YouTube di Space Renaissance: https://www.youtube.com/live/ud-25kyK6RM\ne clicka ‘going’ sull’evento Facebook: https://www.facebook.com/events/2373782389774395/
URL:https://spacerenaissance.space/event/educazione-allo-spazio-2026-4-sessione-filosofia-e-storia/
LOCATION:Zoom
CATEGORIES:Space Renaissance Academy Webinar Series,Space Renaissance Italia
ATTACH;FMTTYPE=image/jpeg:https://spacerenaissance.space/wp-content/uploads/2026/04/EAS-4-scaled.jpg
END:VEVENT
END:VCALENDAR